BEGIN:VCALENDAR
VERSION:2.0
PRODID:-//Tukios.com/
BEGIN:VEVENT
UID:01b20ff5-2e90-4fcb-9a82-534cff6a92d9@www.campbell-biddlecomefh.com
DTSTAMP:20260420T064440Z
DTSTART:20260422T190000Z
DTEND:20260422T193000Z
SUMMARY:Graveside Service
DESCRIPTION:
URL:https://www.campbell-biddlecomefh.com/obituaries/jack-kraft
LOCATION:Burkhart Cemetery     
GEO:0;0
END:VEVENT
END:VCALENDAR